BEGIN:VCALENDAR
VERSION:2.0
PRODID:-//Neunkirchen. Wo Sonst. - Das Stadtinformations-Portal - Angebote &amp; Produkte aus Neunkirchen - ECPv4.9.3.1//NONSGML v1.0//EN
CALSCALE:GREGORIAN
METHOD:PUBLISH
X-WR-CALNAME:Neunkirchen. Wo Sonst. - Das Stadtinformations-Portal - Angebote &amp; Produkte aus Neunkirchen
X-ORIGINAL-URL:https://neunkirchen.wo-sonst.at
X-WR-CALDESC:Veranstaltungen im Neunkirchen. Wo Sonst. - Das Stadtinformations-Portal - Angebote &amp; Produkte aus Neunkirchen
BEGIN:VEVENT
DTSTART;TZID=Europe/Berlin:20190615T100000
DTEND;TZID=Europe/Berlin:20190615T120000
DTSTAMP:20260425T023350
CREATED:20190218T092526Z
LAST-MODIFIED:20190218T092526Z
UID:5830-1560592800-1560600000@neunkirchen.wo-sonst.at
SUMMARY:HAUPTPLATZKONZERT mit Maibaumumschnitt (Musikkapelle Natschbach-Loipersbach)
DESCRIPTION:Konzert am Hauptplatz\, Eintritt frei\, nur bei Schönwetter. \nFürs leibliche Wohl sorgt die Gastronomie am Hauptplatz. \n  \n
URL:https://neunkirchen.wo-sonst.at/event/hauptplatzkonzert-mit-der-trachtenkapelle-wuerflach-hettmansdorf-2-2-2-2-2/
LOCATION:Hauptplatz Neunkirchen\, Hauptplatz 1\, Neunkirchen\, Niederösterreich\, 2620\, Österreich
CATEGORIES:Freizeit,Konzert
ATTACH;FMTTYPE=image/jpeg:https://neunkirchen.wo-sonst.at/wp-content/uploads/2018/04/Platzkonzert.jpg
END:VEVENT
END:VCALENDAR