BEGIN:VCALENDAR
VERSION:2.0
PRODID:-//Neunkirchen. Wo Sonst. - Das Stadtinformations-Portal - Angebote &amp; Produkte aus Neunkirchen - ECPv4.9.3.1//NONSGML v1.0//EN
CALSCALE:GREGORIAN
METHOD:PUBLISH
X-WR-CALNAME:Neunkirchen. Wo Sonst. - Das Stadtinformations-Portal - Angebote &amp; Produkte aus Neunkirchen
X-ORIGINAL-URL:https://neunkirchen.wo-sonst.at
X-WR-CALDESC:Veranstaltungen im Neunkirchen. Wo Sonst. - Das Stadtinformations-Portal - Angebote &amp; Produkte aus Neunkirchen
BEGIN:VEVENT
DTSTART;TZID=Europe/Berlin:20190425T193000
DTEND;TZID=Europe/Berlin:20190425T223000
DTSTAMP:20260424T201241
CREATED:20190218T175213Z
LAST-MODIFIED:20190218T175213Z
UID:5845-1556220600-1556231400@neunkirchen.wo-sonst.at
SUMMARY:FEDERSPIEL "Wolperting"
DESCRIPTION:FEDERSPIEL „Wolperting“. \nDas siebenköpfige Ensemble definiert Blasmusik neu und kleidet Volksmusik in Verbindung mit moderner Weltmusik in ein neues Gewand. \nBeginn um 19.30 Uhr\, \nKarten im Vorverkauf um\n€ 28\,– (Reihe 1 bis 12)\, € 24\,– (Reihe 13 bis 16) und an der Abendkasse\num € 32\,– bzw. € 28\,– unter www.kultur-nk.at und in der Buchhandlung\nReithmeyer am Hauptplatz. \n
URL:https://neunkirchen.wo-sonst.at/event/federspiel-wolperting/
LOCATION:VAZ Neunkirchen\, Würflacherstraße 1\, Neunkirchen\, 2620\, Österreich
ATTACH;FMTTYPE=image/jpeg:https://neunkirchen.wo-sonst.at/wp-content/uploads/2019/02/federspiel_klein.jpg
ORGANIZER;CN="Kulturverein%20Neunkirchen":MAILTO:kultur@kultur-nk.at
END:VEVENT
END:VCALENDAR