BEGIN:VCALENDAR
VERSION:2.0
PRODID:-//Neunkirchen. Wo Sonst. - Das Stadtinformations-Portal - Angebote &amp; Produkte aus Neunkirchen - ECPv4.9.3.1//NONSGML v1.0//EN
CALSCALE:GREGORIAN
METHOD:PUBLISH
X-WR-CALNAME:Neunkirchen. Wo Sonst. - Das Stadtinformations-Portal - Angebote &amp; Produkte aus Neunkirchen
X-ORIGINAL-URL:https://neunkirchen.wo-sonst.at
X-WR-CALDESC:Veranstaltungen im Neunkirchen. Wo Sonst. - Das Stadtinformations-Portal - Angebote &amp; Produkte aus Neunkirchen
BEGIN:VEVENT
DTSTART;TZID=Europe/Berlin:20190614T190000
DTEND;TZID=Europe/Berlin:20190614T220000
DTSTAMP:20260425T011403
CREATED:20190218T092342Z
LAST-MODIFIED:20190218T092342Z
UID:5817-1560538800-1560549600@neunkirchen.wo-sonst.at
SUMMARY:14. NEUNKIRCHNER KAMMERMUSIKTAGE
DESCRIPTION:14. NEUNKIRCHNER KAMMERMUSIKTAGE.  \nDas Neunkirchner Kammerorchester – Neunkirchens beste Streicher spielen gemeinsam mit Profis Werke von Mozart\, Haydn\, Corelli und Brahms in der Evangelische Stadtpfarrkirche!   \nKlassische Musikkultur in Neunkirchen hat in den letzten 13 Jahren einen Namen bekommen: die Neunkirchener Kammermusiktage!\nSeit 2006 legen die Veranstalter besondere Sorgfalt auf die Präsentation und Entwicklung der Streicherkultur.\nErheblichen Aufwand rechtfertigt das Neunkirchner Kammerorchester\, das seit Jahren sehr erfolgreich unsere besten Nachwuchsstreicher in der Zusammenarbeit mit professionellen Musikern zeigt.\nIm Zentrum der Bemühungen allerdings steht die Arbeit mit den\nJüngsten für das Projekt mit dem Kinderorchester: Hier sind die\nKonzertgeher und möglicherweise so mancher Musiker von morgen versammelt. Sie erhalten den Grundstein gelegt dafür\, daß sie in\nZukunft unsere wertvolle Kultur pflegen und sich ihr gegenüber\nniemals träge und gleichgültig verhalten mögen!\nDie 14. Kammermusiktage fahren zudem mit dem Haydn Gesamtzyklus fort. Das Haydn Quartett\, das heuer mit einem Konzertzyklus im Brahmssaal des Wiener Musikvereins betraut ist\, nimmt sich zweier spannender Facetten im Schaffen des großen Meisters an.\nEin fantastischer und unglaublich virtuoser Geigenabend\, ein barockes Kammerkonzert und ein Abend mit groß besetzter romantischer Musik runden das Programm ab. \nKarten sind in jeder Sparkassenfiliale und unter reservierung@neunkirchnerkammermusiktage.at erhältlich \n
URL:https://neunkirchen.wo-sonst.at/event/14-neunkirchner-kammermusiktage/
LOCATION:evangelische Stadtpfarrkirche\, Dr. Stockhammergasse 15-17\, Neunkirchen\, Niederösterreich\, 2620\, Österreich
CATEGORIES:Freizeit,Konzert
ATTACH;FMTTYPE=image/jpeg:https://neunkirchen.wo-sonst.at/wp-content/uploads/2019/02/kmt-geige-4web.jpg
END:VEVENT
END:VCALENDAR